BEGIN:VCALENDAR
VERSION:2.0
PRODID:-//eventon.com NONSGML v1.0//EN
CALSCALE:GREGORIAN
METHOD:PUBLISH
BEGIN:VEVENT
UID:69e889850baf8
DTSTAMP:20260422T084037Z
DTSTART:20251129T200000Z
DTEND:20251129T230000Z
LOCATION:Lounge
SUMMARY:Live Music - Bits & Splits
DESCRIPTION:Welcome back to the BMI is one of Gloucester&#8217;s best-loved
 \,  longest-running bands\,  Bits and Splits delivers top-drawer Soul\,  Mo
 town\,  Northern\,  Funk\,  Disco and Philly sounds. Badass!\nhttps://bmicl
 ub.co.uk/events-archive/live-music-bits-splits/
URL:https://bmiclub.co.uk/events-archive/live-music-bits-splits/
END:VEVENT
END:VCALENDAR