BEGIN:VCALENDAR
VERSION:2.0
PRODID:-//eventon.com NONSGML v1.0//EN
CALSCALE:GREGORIAN
METHOD:PUBLISH
BEGIN:VEVENT
UID:69e4c5f3f3725
DTSTAMP:20260419T120923Z
DTSTART:20251101T151000Z
DTEND:20251101T173000Z
LOCATION:
SUMMARY:England v Australia
DESCRIPTION:Allianz Stadium\nhttps://bmiclub.co.uk/events-archive/england-v
 -australia/
URL:https://bmiclub.co.uk/events-archive/england-v-australia/
END:VEVENT
END:VCALENDAR