BEGIN:VCALENDAR
VERSION:2.0
PRODID:-//eventon.com NONSGML v1.0//EN
CALSCALE:GREGORIAN
METHOD:PUBLISH
BEGIN:VEVENT
UID:69e4c44129e5b
DTSTAMP:20260419T120209Z
DTSTART:20251115T201000Z
DTEND:20251115T220000Z
LOCATION:
SUMMARY:Ireland v Australia
DESCRIPTION:Aviva Stadium\nhttps://bmiclub.co.uk/events-archive/ireland-v-a
 ustralia/
URL:https://bmiclub.co.uk/events-archive/ireland-v-australia/
END:VEVENT
END:VCALENDAR