BEGIN:VCALENDAR
VERSION:2.0
PRODID:-//eventon.com NONSGML v1.0//EN
CALSCALE:GREGORIAN
METHOD:PUBLISH
BEGIN:VEVENT
UID:69e9d8393dfbd
DTSTAMP:20260423T082841Z
DTSTART:20260623T200000Z
DTEND:20260623T220000Z
LOCATION:Lounge
SUMMARY:England v Ghana
DESCRIPTION:Live from the Boston Stadium FIFA World Cup 2026™\nhttps://bm
 iclub.co.uk/events-archive/england-v-ghana/
URL:https://bmiclub.co.uk/events-archive/england-v-ghana/
END:VEVENT
END:VCALENDAR