BEGIN:VCALENDAR
VERSION:2.0
PRODID:-//eventon.com NONSGML v1.0//EN
CALSCALE:GREGORIAN
METHOD:PUBLISH
BEGIN:VEVENT
UID:69e889f03b07e
DTSTAMP:20260422T084224Z
DTSTART:20260605T150000Z
DTEND:20260605T200000Z
LOCATION:BMI Club 8 Bondend Rd\,  Upton St Leonards\,  GL4 8AG
SUMMARY:Portway Farm Shop BBQ Night
DESCRIPTION:Join us for great food &amp; local flavour! Weโre delighted t
 o welcome Portway Farm Shop to the club for a special Friday evening BBQ โ
  bringing their superb local produce straight to the BMI. ๐ Established
  in 1989\,  Portway Farm Shop is a family-run staple right here in Upton St
 [..]\nhttps://bmiclub.co.uk/events-archive/portway-farm-shop-bbq-night/
URL:https://bmiclub.co.uk/events-archive/portway-farm-shop-bbq-night/
END:VEVENT
END:VCALENDAR