BEGIN:VCALENDAR
VERSION:2.0
PRODID:-//eventon.com NONSGML v1.0//EN
CALSCALE:GREGORIAN
METHOD:PUBLISH
BEGIN:VEVENT
UID:69eb2cf1cddc3
DTSTAMP:20260424T084225Z
DTSTART:20260411T190000Z
DTEND:20260411T111500Z
LOCATION:Lounge
SUMMARY:Northern Soul & Motown Disco Night – DJ Phil
DESCRIPTION:Get ready for a proper feel-good disco night as DJ Phil brings 
 the sound of Northern Soul and Motown to the BMI. Expect a floor-filling mi
 x of uplifting classics\,  crowd favourites and irresistible grooves that m
 ake it impossible to stay seated for long. From big\,  instantly recognisab
 le anthems to soulful[..]\nhttps://bmiclub.co.uk/events-archive/northern-so
 ul-motown-disco-night-dj-phil/
URL:https://bmiclub.co.uk/events-archive/northern-soul-motown-disco-night-dj-phil/
END:VEVENT
END:VCALENDAR